BEGIN:VCALENDAR
VERSION:2.0
PRODID:-//KS - ECPv6.15.20//NONSGML v1.0//EN
CALSCALE:GREGORIAN
METHOD:PUBLISH
X-ORIGINAL-URL:https://kleene-stroemper.de
X-WR-CALDESC:Veranstaltungen für KS
REFRESH-INTERVAL;VALUE=DURATION:PT1H
X-Robots-Tag:noindex
X-PUBLISHED-TTL:PT1H
BEGIN:VTIMEZONE
TZID:Europe/Berlin
BEGIN:DAYLIGHT
TZOFFSETFROM:+0100
TZOFFSETTO:+0200
TZNAME:CEST
DTSTART:20230326T010000
END:DAYLIGHT
BEGIN:STANDARD
TZOFFSETFROM:+0200
TZOFFSETTO:+0100
TZNAME:CET
DTSTART:20231029T010000
END:STANDARD
BEGIN:DAYLIGHT
TZOFFSETFROM:+0100
TZOFFSETTO:+0200
TZNAME:CEST
DTSTART:20240331T010000
END:DAYLIGHT
BEGIN:STANDARD
TZOFFSETFROM:+0200
TZOFFSETTO:+0100
TZNAME:CET
DTSTART:20241027T010000
END:STANDARD
BEGIN:DAYLIGHT
TZOFFSETFROM:+0100
TZOFFSETTO:+0200
TZNAME:CEST
DTSTART:20250330T010000
END:DAYLIGHT
BEGIN:STANDARD
TZOFFSETFROM:+0200
TZOFFSETTO:+0100
TZNAME:CET
DTSTART:20251026T010000
END:STANDARD
END:VTIMEZONE
BEGIN:VEVENT
DTSTART;TZID=Europe/Berlin:20241005T180000
DTEND;TZID=Europe/Berlin:20241006T010000
DTSTAMP:20260421T122342
CREATED:20240704T095914Z
LAST-MODIFIED:20240902T200746Z
UID:981-1728151200-1728176400@kleene-stroemper.de
SUMMARY:Oktoberfest - 100 Jahre Löschzug Strümp - 50 Jahre Jugendfeuerwehr
DESCRIPTION:Der Löschzug Strümp feiert 100-jähriges Jubiläum. \nEin Jahrhundert ehrenamtlicher Dienst für die Bürgerinnen und Bürger unserer Stadt. \nEin Jahrhundert Idealismus und Kameradschaft. \nFeiert mit uns! \nUns erwartet ein zünftiges Oktoberfest als Joint-Venture des Löschzugs Strümp und der „Strümper Dorfjungs“ mit DJ Eric und Live-Power von „Happytones“ sowie bayerischen Spezialitäten. \nDorfleben: Wo Freundschaften blühen und Erinnerungen wachsen! \nTickets: Eventim \n \n 
URL:https://kleene-stroemper.de/event/feuerwehrfest-100-jahre-loeschzug-struemp-50-jahre-jugendfeuerwehr/
LOCATION:Festzelt Fritz-Wendt-Straße\, Parkplatz Fritz-Wendt-Straße\, Meerbusch\, 40670\, Germany
END:VEVENT
BEGIN:VEVENT
DTSTART;TZID=Europe/Berlin:20241006T090000
DTEND;TZID=Europe/Berlin:20241006T140000
DTSTAMP:20260421T122342
CREATED:20240902T201028Z
LAST-MODIFIED:20240902T201028Z
UID:2285-1728205200-1728223200@kleene-stroemper.de
SUMMARY:Feuerwehrfest - 100 Jahre Löschzug Strümp - 50 Jahre Jugendfeuerwehr
DESCRIPTION:Mit einem bunten Programm feiert der Löschzug Strümp und die Jugendfeuerwehr ihr 100. bzw. 50. Jubiläum.
URL:https://kleene-stroemper.de/event/feuerwehrfest-100-jahre-loeschzug-struemp-50-jahre-jugendfeuerwehr-2/
LOCATION:Festzelt Fritz-Wendt-Straße\, Parkplatz Fritz-Wendt-Straße\, Meerbusch\, 40670\, Germany
END:VEVENT
END:VCALENDAR