BEGIN:VCALENDAR
VERSION:2.0
PRODID:-//KS - ECPv6.15.20//NONSGML v1.0//EN
CALSCALE:GREGORIAN
METHOD:PUBLISH
X-WR-CALNAME:KS
X-ORIGINAL-URL:https://kleene-stroemper.de
X-WR-CALDESC:Veranstaltungen für KS
REFRESH-INTERVAL;VALUE=DURATION:PT1H
X-Robots-Tag:noindex
X-PUBLISHED-TTL:PT1H
BEGIN:VTIMEZONE
TZID:Europe/Berlin
BEGIN:DAYLIGHT
TZOFFSETFROM:+0100
TZOFFSETTO:+0200
TZNAME:CEST
DTSTART:20240331T010000
END:DAYLIGHT
BEGIN:STANDARD
TZOFFSETFROM:+0200
TZOFFSETTO:+0100
TZNAME:CET
DTSTART:20241027T010000
END:STANDARD
BEGIN:DAYLIGHT
TZOFFSETFROM:+0100
TZOFFSETTO:+0200
TZNAME:CEST
DTSTART:20250330T010000
END:DAYLIGHT
BEGIN:STANDARD
TZOFFSETFROM:+0200
TZOFFSETTO:+0100
TZNAME:CET
DTSTART:20251026T010000
END:STANDARD
BEGIN:DAYLIGHT
TZOFFSETFROM:+0100
TZOFFSETTO:+0200
TZNAME:CEST
DTSTART:20260329T010000
END:DAYLIGHT
BEGIN:STANDARD
TZOFFSETFROM:+0200
TZOFFSETTO:+0100
TZNAME:CET
DTSTART:20261025T010000
END:STANDARD
END:VTIMEZONE
BEGIN:VEVENT
DTSTART;TZID=Europe/Berlin:20251107T171500
DTEND;TZID=Europe/Berlin:20251107T171500
DTSTAMP:20260420T155216
CREATED:20240227T090944Z
LAST-MODIFIED:20250827T142209Z
UID:413-1762535700-1762535700@kleene-stroemper.de
SUMMARY:Martinsfest 2025
DESCRIPTION:Das Martinsfest 2025 findet am 07.11.2025 in Strümp statt.\nAufstellung um 17:15 Uhr auf dem Fouesnantplatz und Abmarsch des Zuges gegen 17:30 Uhr.\nDie Ausgabe der Martinstüten\, sowie die Nachfeier findet in diesem Jahr wegen des Umbaus der Martinus-Schule bei der Freiwilligen Feuerwehr Strümp\, Kaustinenweg statt \nLiebe Mitbürger und Mitbürgerinnen\, haben Sie Interesse im Martinskomitee Strümp mitzuarbeiten? \nMelden Sie sich: \nMail: martinskomitee.struemp@outlook.de \nWir haben in der Regel 2 Sitzungen im Jahr und es sind ca. 3-4 Abende im September / Oktober zum Sammeln erforderlich.\nUnser Ziel ist es\, das St. Martinsbrauchtum zu bewahren und zu fördern.\nWir organisieren das Martinsfest für alle Strümper Bürger/innen.\nAlle Kinder bis zum 12. Lebensjahr erhalten eine Martinstüte und die Senioren (ab 70 Jahre) einen Weckmann.
URL:https://kleene-stroemper.de/event/martinsfest-2025/
LOCATION:Fouesnantplatz\, Fouesnantplatz\, Meerbusch\, 40670
ORGANIZER;CN="Martinskomitee Str%C3%BCmp":MAILTO:martinskomitee.struemp@outlook.de
END:VEVENT
END:VCALENDAR