BEGIN:VCALENDAR
VERSION:2.0
PRODID:-//KS - ECPv6.15.20//NONSGML v1.0//EN
CALSCALE:GREGORIAN
METHOD:PUBLISH
X-WR-CALNAME:KS
X-ORIGINAL-URL:https://kleene-stroemper.de
X-WR-CALDESC:Veranstaltungen für KS
REFRESH-INTERVAL;VALUE=DURATION:PT1H
X-Robots-Tag:noindex
X-PUBLISHED-TTL:PT1H
BEGIN:VTIMEZONE
TZID:Europe/Berlin
BEGIN:DAYLIGHT
TZOFFSETFROM:+0100
TZOFFSETTO:+0200
TZNAME:CEST
DTSTART:20240331T010000
END:DAYLIGHT
BEGIN:STANDARD
TZOFFSETFROM:+0200
TZOFFSETTO:+0100
TZNAME:CET
DTSTART:20241027T010000
END:STANDARD
BEGIN:DAYLIGHT
TZOFFSETFROM:+0100
TZOFFSETTO:+0200
TZNAME:CEST
DTSTART:20250330T010000
END:DAYLIGHT
BEGIN:STANDARD
TZOFFSETFROM:+0200
TZOFFSETTO:+0100
TZNAME:CET
DTSTART:20251026T010000
END:STANDARD
BEGIN:DAYLIGHT
TZOFFSETFROM:+0100
TZOFFSETTO:+0200
TZNAME:CEST
DTSTART:20260329T010000
END:DAYLIGHT
BEGIN:STANDARD
TZOFFSETFROM:+0200
TZOFFSETTO:+0100
TZNAME:CET
DTSTART:20261025T010000
END:STANDARD
END:VTIMEZONE
BEGIN:VEVENT
DTSTART;TZID=Europe/Berlin:20251128T170000
DTEND;TZID=Europe/Berlin:20251130T180000
DTSTAMP:20260420T155215
CREATED:20250521T101725Z
LAST-MODIFIED:20251129T120628Z
UID:2460-1764349200-1764525600@kleene-stroemper.de
SUMMARY:Strümper Weihnachtsmarkt 2025
DESCRIPTION:Der 25. Strümper Weihnachtsmarkt findet in diesem Jahr statt.\nZu diesem Jubiläum lassen wir uns natürlich auch etwas Besonderes einfallen.
URL:https://kleene-stroemper.de/event/struemper-weihnachtsmarkt-2025/
LOCATION:An St. Franziskus\, Kaustinenweg 1\, Meerbusch\, 40670\, Germany
END:VEVENT
END:VCALENDAR