BEGIN:VCALENDAR
VERSION:2.0
PRODID:-//KS - ECPv6.15.20//NONSGML v1.0//EN
CALSCALE:GREGORIAN
METHOD:PUBLISH
X-WR-CALNAME:KS
X-ORIGINAL-URL:https://kleene-stroemper.de
X-WR-CALDESC:Veranstaltungen für KS
REFRESH-INTERVAL;VALUE=DURATION:PT1H
X-Robots-Tag:noindex
X-PUBLISHED-TTL:PT1H
BEGIN:VTIMEZONE
TZID:Europe/Berlin
BEGIN:DAYLIGHT
TZOFFSETFROM:+0100
TZOFFSETTO:+0200
TZNAME:CEST
DTSTART:20230326T010000
END:DAYLIGHT
BEGIN:STANDARD
TZOFFSETFROM:+0200
TZOFFSETTO:+0100
TZNAME:CET
DTSTART:20231029T010000
END:STANDARD
BEGIN:DAYLIGHT
TZOFFSETFROM:+0100
TZOFFSETTO:+0200
TZNAME:CEST
DTSTART:20240331T010000
END:DAYLIGHT
BEGIN:STANDARD
TZOFFSETFROM:+0200
TZOFFSETTO:+0100
TZNAME:CET
DTSTART:20241027T010000
END:STANDARD
BEGIN:DAYLIGHT
TZOFFSETFROM:+0100
TZOFFSETTO:+0200
TZNAME:CEST
DTSTART:20250330T010000
END:DAYLIGHT
BEGIN:STANDARD
TZOFFSETFROM:+0200
TZOFFSETTO:+0100
TZNAME:CET
DTSTART:20251026T010000
END:STANDARD
END:VTIMEZONE
BEGIN:VEVENT
DTSTART;TZID=Europe/Berlin:20240607T173000
DTEND;TZID=Europe/Berlin:20240607T210000
DTSTAMP:20260421T163446
CREATED:20240227T080101Z
LAST-MODIFIED:20240227T080244Z
UID:389-1717781400-1717794000@kleene-stroemper.de
SUMMARY:5. Meerbuscher Radnacht
DESCRIPTION:Die fünfte Meerbuscher Radnacht geht im Jahr 2024 am Freitag\, 7. Juni\, in Szene. Dann heißt es wieder freie Fahrt für Radfahrende. Vom Schützenplatz in Osterath beginnend führt die Route durch Büderich\, am Böhler Radweg vorbei\, über Ilverich und Lank-Latum bis nach Strümp. \nUm 17.30\, eine halbe Stunde früher als bisher\, wird sich der gelbe Lindwurm aus fröhlich gestimmten Radlerinnen und Radlern aller Altersgruppen in Bewegung setzen. Warum früher? Zum Abschluss der rund 25 Kilometer langen Rundtour durch Meerbusch gibt es erstmals ein geselliges Finale mit Live-Musik\, Imbiss und kühlen Getränken. Ort des Geschehens wird der Platz an der Kirche St. Franziskus im Stadtteil Strümp sein. \nDie Stabsstelle Umwelt und Klima und das Referat für Öffentlichkeitsarbeit der Stadt haben sich mit dem Bürgerverein „Kleene Strömper“ zusammengetan\, um gemeinsam ein rundum schönes Abschluss- Event für die Radnacht auf die Beine zu stellen. Es lohnt sich auf jeden Fall\, die Rundtour bis zum Ende mitzufahren Die „Radnacht-Abschlussparty beginnt um 19 Uhr. Teilnehmen dürfen natürlich alle\, die nicht Rad fahren\, sondern einfach nur mitfeiern möchten. Auch die „Kleene Strömper“ sind stolz\, erstmals Zielort der Radacht zu sein und freuen sich auf den geselligen Abend. \n\n\n\n\nRegeln der Radnacht\nDie Radnacht ist kein Wettbewerb\, sie soll Spaß machen! \nDamit dies trotz steigender Teilnehmerzahlen gewährleistet ist\, gibt es einige verbindliche Regeln\, an die sich alle Teilnehmenden halten müssen: \n\nTeilnahme an der Veranstaltung geschieht auf eigene Gefahr.\nTeilnahme nur mit verkehrssicheren Fahrrädern mit Licht.\nBenutzung eines Fahrradhelms wird dringend empfohlen.\nKinder zwischen 10 und 16 Jahren dürfen nur in Begleitung eines Erwachsenen fahren.\nDie Teilnahme von Kindern unter 10 Jahre obliegt der sorgfältigen Einschätzung der Eltern (im Bereich der StVO zugelassene Anhänger\, Kindersitze etc. sind erlaubt).\nDer Konsum von Alkohol ist während der Veranstaltung strengstens untersagt\, ebenso das Mitführen von Glasflaschen und Alkohol.\nDen Anweisungen der Ordner (orange Westen) ist Folge zu leisten. Die Ordner sind in erster Linie dafür zuständig\, das Feld gegenüber dem Straßenverkehr abzusichern\, achten aber auch auf die Einhaltung der Regeln. Bitte achtet auf die Hinweise der Ordner.\nWir fahren im Rahmen einer Sondergenehmigung im Konvoi.\nDas Mitfahren im Rahmen der Radnacht ist den Teilnehmern nur auf den Straßen erlaubt\, nicht auf den Bürgersteigen\, da dies die Unfallgefahr unnötig erhöht.\nDas Überholen der Ordner am Führungsfahrzeug ist nicht gestattet.\nDie Radnacht ist eine Veranstaltung für Fahrräder und ähnliche Fortbewegungsmittel.\nDie Teilnahme mit Inlineskates\, Skateboards\, Longboards oder anderen Fortbewegungsmitteln ist leider nicht möglich Dies beruht auf unterschiedlichen Bewegungsmustern und Bremsverhalten.\nDas Mitführen von Hunden ist nicht gestattet.\n\nAlle Informationen und Kontaktdaten findet ihr hier: https://meerbusch.de/wir-in-meerbusch/radfahren-in-meerbusch/fahrradboxen-1.html
URL:https://kleene-stroemper.de/event/5-meerbuscher-radnacht/
END:VEVENT
END:VCALENDAR